BEGIN:VCALENDAR
VERSION:2.0
PRODID:-//Skiclub Oberhofen - ECPv6.15.18//NONSGML v1.0//EN
CALSCALE:GREGORIAN
METHOD:PUBLISH
X-WR-CALNAME:Skiclub Oberhofen
X-ORIGINAL-URL:https://www.skiclub-oberhofen.ch
X-WR-CALDESC:Veranstaltungen für Skiclub Oberhofen
REFRESH-INTERVAL;VALUE=DURATION:PT1H
X-Robots-Tag:noindex
X-PUBLISHED-TTL:PT1H
BEGIN:VTIMEZONE
TZID:Europe/Berlin
BEGIN:DAYLIGHT
TZOFFSETFROM:+0100
TZOFFSETTO:+0200
TZNAME:CEST
DTSTART:20250330T010000
END:DAYLIGHT
BEGIN:STANDARD
TZOFFSETFROM:+0200
TZOFFSETTO:+0100
TZNAME:CET
DTSTART:20251026T010000
END:STANDARD
BEGIN:DAYLIGHT
TZOFFSETFROM:+0100
TZOFFSETTO:+0200
TZNAME:CEST
DTSTART:20260329T010000
END:DAYLIGHT
BEGIN:STANDARD
TZOFFSETFROM:+0200
TZOFFSETTO:+0100
TZNAME:CET
DTSTART:20261025T010000
END:STANDARD
BEGIN:DAYLIGHT
TZOFFSETFROM:+0100
TZOFFSETTO:+0200
TZNAME:CEST
DTSTART:20270328T010000
END:DAYLIGHT
BEGIN:STANDARD
TZOFFSETFROM:+0200
TZOFFSETTO:+0100
TZNAME:CET
DTSTART:20271031T010000
END:STANDARD
END:VTIMEZONE
BEGIN:VEVENT
DTSTART;TZID=Europe/Berlin:20260425T080000
DTEND;TZID=Europe/Berlin:20260425T130000
DTSTAMP:20260420T044046
CREATED:20260206T070010Z
LAST-MODIFIED:20260207T074001Z
UID:465-1777104000-1777122000@www.skiclub-oberhofen.ch
SUMMARY:Waldputzete 2026
DESCRIPTION:Organisation durch die Burgergemeinde Oberhofen. \nBesammlung um 08.00 Uhr beim Forsthaus Blochbuche \nWeitere Informationen sind auch auf der Website der Burgergemeinde Oberhofen vorhanden.
URL:https://www.skiclub-oberhofen.ch/event/waldputzete-2026/
LOCATION:Forsthaus Blochbuche\, Oberhofen\, 3653\, Schweiz
END:VEVENT
BEGIN:VEVENT
DTSTART;TZID=Europe/Berlin:20260502T093000
DTEND;TZID=Europe/Berlin:20260502T093000
DTSTAMP:20260420T044046
CREATED:20251004T040038Z
LAST-MODIFIED:20251004T042244Z
UID:523-1777714200-1777714200@www.skiclub-oberhofen.ch
SUMMARY:Hüttenwärchet Frühling
DESCRIPTION:
URL:https://www.skiclub-oberhofen.ch/event/huettenwaerchet-fruehling/
LOCATION:Surreli
END:VEVENT
BEGIN:VEVENT
DTSTART;TZID=Europe/Berlin:20260614T110000
DTEND;TZID=Europe/Berlin:20260614T110000
DTSTAMP:20260420T044046
CREATED:20251004T040039Z
LAST-MODIFIED:20251004T042413Z
UID:527-1781434800-1781434800@www.skiclub-oberhofen.ch
SUMMARY:Jassturnier
DESCRIPTION:Zeit ist provisorisch und wird definitiv noch bekannt gegeben.
URL:https://www.skiclub-oberhofen.ch/event/jassen/
LOCATION:Surreli
END:VEVENT
BEGIN:VEVENT
DTSTART;TZID=Europe/Berlin:20260809T110000
DTEND;TZID=Europe/Berlin:20260809T170000
DTSTAMP:20260420T044046
CREATED:20251004T040038Z
LAST-MODIFIED:20251004T042516Z
UID:529-1786273200-1786294800@www.skiclub-oberhofen.ch
SUMMARY:Grillplausch und Sommer-Olympiade
DESCRIPTION:
URL:https://www.skiclub-oberhofen.ch/event/grillplausch-und-sommer-olympiade/
LOCATION:Surreli
END:VEVENT
BEGIN:VEVENT
DTSTART;TZID=Europe/Berlin:20261010T093000
DTEND;TZID=Europe/Berlin:20261010T140000
DTSTAMP:20260420T044046
CREATED:20251004T040037Z
LAST-MODIFIED:20251004T042943Z
UID:438-1791624600-1791640800@www.skiclub-oberhofen.ch
SUMMARY:Hüttenwärchet Herbst
DESCRIPTION:
URL:https://www.skiclub-oberhofen.ch/event/huettenwaerchet-herbst-2024/
LOCATION:Skihütte Surreli\, Schwanden (Sigriswil)\, 3657\, Schweiz
END:VEVENT
BEGIN:VEVENT
DTSTART;TZID=Europe/Berlin:20261030T190000
DTEND;TZID=Europe/Berlin:20261030T190000
DTSTAMP:20260420T044046
CREATED:20251004T040004Z
LAST-MODIFIED:20251004T043049Z
UID:440-1793386800-1793386800@www.skiclub-oberhofen.ch
SUMMARY:77. Hauptversammlung
DESCRIPTION:Einladung mit Angaben zu Ort und Zeit folgt zu gegebener Zeit
URL:https://www.skiclub-oberhofen.ch/event/hauptversammlung-hv/
END:VEVENT
END:VCALENDAR